BEGIN:VCALENDAR
VERSION:2.0
PRODID:-//Vem viver caxambu - ECPv6.0.6.2//NONSGML v1.0//EN
CALSCALE:GREGORIAN
METHOD:PUBLISH
X-ORIGINAL-URL:https://vemvivercaxambu.com.br
X-WR-CALDESC:Eventos para Vem viver caxambu
REFRESH-INTERVAL;VALUE=DURATION:PT1H
X-Robots-Tag:noindex
X-PUBLISHED-TTL:PT1H
BEGIN:VTIMEZONE
TZID:America/Sao_Paulo
BEGIN:STANDARD
TZOFFSETFROM:-0300
TZOFFSETTO:-0300
TZNAME:-03
DTSTART:20230101T000000
END:STANDARD
END:VTIMEZONE
BEGIN:VEVENT
DTSTART;VALUE=DATE:20230604
DTEND;VALUE=DATE:20230605
DTSTAMP:20260425T005906
CREATED:20230525T151615Z
LAST-MODIFIED:20230525T151616Z
UID:581-1685836800-1685923199@vemvivercaxambu.com.br
SUMMARY:Festa Junina da Escola Chapeuzinho Vermelho
DESCRIPTION:
URL:https://vemvivercaxambu.com.br/evento/festa-junina-da-escola-chapeuzinho-vermelho/
LOCATION:Parque das águas\, R. João Carlos\, 82\, Caxambu - MG\, 37440-000\, Caxambu\, Minas Gerais\, 37440000\, Brasil
END:VEVENT
END:VCALENDAR