BEGIN:VCALENDAR
VERSION:2.0
PRODID:-//Vem viver caxambu - ECPv6.0.6.2//NONSGML v1.0//EN
CALSCALE:GREGORIAN
METHOD:PUBLISH
X-ORIGINAL-URL:https://vemvivercaxambu.com.br
X-WR-CALDESC:Eventos para Vem viver caxambu
REFRESH-INTERVAL;VALUE=DURATION:PT1H
X-Robots-Tag:noindex
X-PUBLISHED-TTL:PT1H
BEGIN:VTIMEZONE
TZID:America/Sao_Paulo
BEGIN:STANDARD
TZOFFSETFROM:-0300
TZOFFSETTO:-0300
TZNAME:-03
DTSTART:20230101T000000
END:STANDARD
END:VTIMEZONE
BEGIN:VEVENT
DTSTART;VALUE=DATE:20230727
DTEND;VALUE=DATE:20230731
DTSTAMP:20260425T003819
CREATED:20230502T183538Z
LAST-MODIFIED:20230508T194431Z
UID:574-1690416000-1690761599@vemvivercaxambu.com.br
SUMMARY:IV FESTIVAL DE BANDAS COVER
DESCRIPTION:
URL:https://vemvivercaxambu.com.br/evento/iv-festival-de-bandas-cover/
LOCATION:Minas Gerais
END:VEVENT
END:VCALENDAR