BEGIN:VCALENDAR
VERSION:2.0
PRODID:-//Vem viver caxambu - ECPv6.0.6.2//NONSGML v1.0//EN
CALSCALE:GREGORIAN
METHOD:PUBLISH
X-WR-CALNAME:Vem viver caxambu
X-ORIGINAL-URL:https://vemvivercaxambu.com.br
X-WR-CALDESC:Eventos para Vem viver caxambu
REFRESH-INTERVAL;VALUE=DURATION:PT1H
X-Robots-Tag:noindex
X-PUBLISHED-TTL:PT1H
BEGIN:VTIMEZONE
TZID:America/Sao_Paulo
BEGIN:STANDARD
TZOFFSETFROM:-0300
TZOFFSETTO:-0300
TZNAME:-03
DTSTART:20230101T000000
END:STANDARD
END:VTIMEZONE
BEGIN:VEVENT
DTSTART;VALUE=DATE:20230428
DTEND;VALUE=DATE:20230502
DTSTAMP:20260425T005832
CREATED:20230502T182049Z
LAST-MODIFIED:20230502T182051Z
UID:568-1682640000-1682985599@vemvivercaxambu.com.br
SUMMARY:Caxambu Blues
DESCRIPTION:
URL:https://vemvivercaxambu.com.br/evento/caxambu-blues/
LOCATION:Parque das águas\, R. João Carlos\, 82\, Caxambu - MG\, 37440-000\, Caxambu\, Minas Gerais\, 37440000\, Brasil
END:VEVENT
BEGIN:VEVENT
DTSTART;VALUE=DATE:20230506
DTEND;VALUE=DATE:20230508
DTSTAMP:20260425T005832
CREATED:20230503T154907Z
LAST-MODIFIED:20230503T154909Z
UID:576-1683331200-1683503999@vemvivercaxambu.com.br
SUMMARY:ll Encontro de Carros Antigos Caxambu
DESCRIPTION:
URL:https://vemvivercaxambu.com.br/evento/ll-encontro-de-carros-antigos-caxambu/
LOCATION:Parque das águas\, R. João Carlos\, 82\, Caxambu - MG\, 37440-000\, Caxambu\, Minas Gerais\, 37440000\, Brasil
END:VEVENT
END:VCALENDAR